BEGIN:VCALENDAR
VERSION:2.0
PRODID:-//Les Saveurs du Bas-Saint-Laurent - ECPv6.4.0//NONSGML v1.0//EN
CALSCALE:GREGORIAN
METHOD:PUBLISH
X-WR-CALNAME:Les Saveurs du Bas-Saint-Laurent
X-ORIGINAL-URL:https://saveursbsl.com
X-WR-CALDESC:évènements pour Les Saveurs du Bas-Saint-Laurent
REFRESH-INTERVAL;VALUE=DURATION:PT1H
X-Robots-Tag:noindex
X-PUBLISHED-TTL:PT1H
BEGIN:VTIMEZONE
TZID:America/Halifax
BEGIN:DAYLIGHT
TZOFFSETFROM:-0400
TZOFFSETTO:-0300
TZNAME:ADT
DTSTART:20260308T060000
END:DAYLIGHT
BEGIN:STANDARD
TZOFFSETFROM:-0300
TZOFFSETTO:-0400
TZNAME:AST
DTSTART:20261101T050000
END:STANDARD
END:VTIMEZONE
BEGIN:VEVENT
DTSTART;VALUE=DATE:20260425
DTEND;VALUE=DATE:20260427
DTSTAMP:20260426T012439
CREATED:20240116T151220Z
LAST-MODIFIED:20251027T171227Z
UID:476892-1777075200-1777247999@saveursbsl.com
SUMMARY:Expo Manger Santé et Vivre Vert à Québec
DESCRIPTION:Ne manquez pas le plus grand événement d’alimentation saine\, d’écologie et de santé globale au Québec. \nUne centaine de conférences et démos culinaires et des invités de marque au Centre des Congrès de Québec.
URL:https://saveursbsl.com/event/expo-manger-sante-et-vivre-vert-a-montreal-copy/
LOCATION:Centre des congrès\, 1000\, Boul. René-Lévesque Est\, Québec\, Québec\, Canada
CATEGORIES:Salon / Dégustation
ATTACH;FMTTYPE=image/png:https://saveursbsl.com/wp-content/uploads/2024/01/Capture-decran-2025-10-27-131212.png
END:VEVENT
END:VCALENDAR