BEGIN:VCALENDAR
VERSION:2.0
PRODID:-//Les Saveurs du Bas-Saint-Laurent - ECPv6.4.0//NONSGML v1.0//EN
CALSCALE:GREGORIAN
METHOD:PUBLISH
X-WR-CALNAME:Les Saveurs du Bas-Saint-Laurent
X-ORIGINAL-URL:https://saveursbsl.com
X-WR-CALDESC:évènements pour Les Saveurs du Bas-Saint-Laurent
REFRESH-INTERVAL;VALUE=DURATION:PT1H
X-Robots-Tag:noindex
X-PUBLISHED-TTL:PT1H
BEGIN:VTIMEZONE
TZID:America/Halifax
BEGIN:DAYLIGHT
TZOFFSETFROM:-0400
TZOFFSETTO:-0300
TZNAME:ADT
DTSTART:20240310T060000
END:DAYLIGHT
BEGIN:STANDARD
TZOFFSETFROM:-0300
TZOFFSETTO:-0400
TZNAME:AST
DTSTART:20241103T050000
END:STANDARD
END:VTIMEZONE
BEGIN:VEVENT
DTSTART;TZID=America/Halifax:20240227T090000
DTEND;TZID=America/Halifax:20240227T150000
DTSTAMP:20260420T205707
CREATED:20240215T150057Z
LAST-MODIFIED:20240215T150057Z
UID:476972-1709024400-1709046000@saveursbsl.com
SUMMARY:Atelier écoemballage | de la réflexion à l'action
DESCRIPTION:Les SADC du Bas-Saint-Laurent vous invitent à cet événement qui a pour objectif de permettre aux entreprises d’être formées par des expertes\, Aurore et Sandrine de La Vague\, afin d’optimiser leurs emballages en vue de réduire leur empreinte environnementale. On invite les entreprises à apporter un (1) emballage afin que l’on discute d’alternatives concrètes lors de l’atelier de co-développement. \nDestiné aux entreprises œuvrant dans le domaine alimentaire\, cet événement se divise en 3 blocs : \nBloc 1 |  9h15 à 11h30 \nConférence par les expertes de La Vague permettant aux personnes présentes de se questionner sur les pratiques à adopter\, tout en développant un regard constructif sur les actions actuelles. \nVoici certains enjeux qui seront abordés :\n* Trucs et astuces pour réduire à la source l’usage unique ;\n* Meilleures options et alternatives d’emballages alimentaires ;\n* Utilisation et mise en place d’un système de contenants consignés. \nBloc 2 |  11h30 à 13h00 \nDîner-échange | présentation sur l’importance d’une bonne planification au niveau des communications entourant le changement de vos emballages \nBloc 3 |  13h00 à 15h00 \nAtelier pratique dirigé par les expertes de La Vague\, visant la recherche de solutions concrètes aux enjeux rencontrés par les commerçants alimentaires. \nINSCRIPTION REQUISE | Coût: 30 $ par personne\, incluant le dîner.
URL:https://saveursbsl.com/event/atelier-ecoemballage-de-la-reflexion-a-laction/
CATEGORIES:Formation
ATTACH;FMTTYPE=image/png:https://saveursbsl.com/wp-content/uploads/2024/02/ely240227001-640x360-fr-m-65bbad8b.png
END:VEVENT
END:VCALENDAR