BEGIN:VCALENDAR
VERSION:2.0
PRODID:-//Les Saveurs du Bas-Saint-Laurent - ECPv6.4.0//NONSGML v1.0//EN
CALSCALE:GREGORIAN
METHOD:PUBLISH
X-ORIGINAL-URL:https://saveursbsl.com
X-WR-CALDESC:évènements pour Les Saveurs du Bas-Saint-Laurent
REFRESH-INTERVAL;VALUE=DURATION:PT1H
X-Robots-Tag:noindex
X-PUBLISHED-TTL:PT1H
BEGIN:VTIMEZONE
TZID:America/Halifax
BEGIN:DAYLIGHT
TZOFFSETFROM:-0400
TZOFFSETTO:-0300
TZNAME:ADT
DTSTART:20240310T060000
END:DAYLIGHT
BEGIN:STANDARD
TZOFFSETFROM:-0300
TZOFFSETTO:-0400
TZNAME:AST
DTSTART:20241103T050000
END:STANDARD
END:VTIMEZONE
BEGIN:VEVENT
DTSTART;VALUE=DATE:20240309
DTEND;VALUE=DATE:20240310
DTSTAMP:20260420T193536
CREATED:20230221T141609Z
LAST-MODIFIED:20240223T151913Z
UID:476119-1709942400-1710028799@saveursbsl.com
SUMMARY:Formation Jeune trayeur
DESCRIPTION:Tu as  entre 12 et 17 ans ? Tu es responsable et tu aimes les animaux ?\nInscris-toi à la formation gratuite « Jeunes Trayeur(e)s »  ! Cette formation te permettra d’acquérir des connaissances et peut être trouver votre premier emploi afin d’aider les producteurs laitiers  à effectuer certaines tâches. \nFORMATION JEUNES TRAYEURS(E)S : samedi 09 MARS 2024 à partir de 9h. 3 heures de formation. Contenus  théorique et pratique sur l’alimentation\, les soins et l’approche sécuritaire des animaux\, des normes\, de l’équipement de traite et de la traite elle-même. \nCOÛT : Gratuit ! \nLIEU DE LA FORMATION : à la Ferme Agil Holstein \nADRESSE :  41 Chemin du Petit-Lac-Macpès\, Rimouski\, QC G5N 5Z1\nINSCRIPTION  : Complète ce formulaire ! Nous te contacterons ensuite pour confirmer ton inscription. \nD’AUTRES QUESTIONS ? Appelle Ousmane Ndiaye au 418-425-6141 poste 4106.
URL:https://saveursbsl.com/event/formation-jeune-trayeur-du-temiscouata/
CATEGORIES:Formation
ATTACH;FMTTYPE=image/jpeg:https://saveursbsl.com/wp-content/uploads/2023/02/392867955_799444488878747_1778787196441572216_n.jpg
END:VEVENT
BEGIN:VEVENT
DTSTART;TZID=America/Halifax:20240309T093000
DTEND;TZID=America/Halifax:20240310T150000
DTSTAMP:20260420T193536
CREATED:20240222T185156Z
LAST-MODIFIED:20240222T185156Z
UID:477045-1709976600-1710082800@saveursbsl.com
SUMMARY:Formation à la taille des pommiers
DESCRIPTION:Dans le cadre d’une formation de deux jours\,  familiarisez-vous avec les techniques de taille des pommiers et développez les compétences qui vous permettront d’augmenter leur production. \nAnimée par  M. Guy Langlais\, enseignant retraité de l’ITAQ spécialisé en arboriculture fruitière\, la formation abordera les sujets suivants : \n\nPhysiologie des pommiers et reconnaissance des différents organes fruitiers\nIdentification des défauts de structure\nPrésentation des outils et méthodes de coupe\nInitiation aux techniques de taille (formation\, fructification et restructuration)\nRéaction de l’arbre suite à la taille et processus de cicatrisation\nTaille d’entretien\, prévention des maladies et protection des pommiers\n\n  \nLa formation comprend un volet théorique qui se déroulera en classe et un volet pratique qui se tiendra au verger Maison-Notre-Dame-des-Champs à Pohénégamook. \nElle s’adresse aussi bien aux citoyens souhaitant apprendre à entretenir un pommier sur leur terrain qu’aux propriétaires de petits vergers désirant former leur main-d’œuvre.
URL:https://saveursbsl.com/event/formation-a-la-taille-des-pommiers/
CATEGORIES:Formation
ATTACH;FMTTYPE=image/jpeg:https://saveursbsl.com/wp-content/uploads/2024/02/427942003_837071565121801_2919044083108399350_n.jpg
END:VEVENT
BEGIN:VEVENT
DTSTART;TZID=America/Halifax:20240311T083000
DTEND;TZID=America/Halifax:20240311T123000
DTSTAMP:20260420T193536
CREATED:20240227T151515Z
LAST-MODIFIED:20240227T151515Z
UID:477056-1710145800-1710160200@saveursbsl.com
SUMMARY:Formation Jeunes acériculteurs
DESCRIPTION:Tu as entre 12 et 17 ans? Tu aimerais découvrir le métier d’acériculteur? Apprendre la transformation de l’eau d’érable et la fabrication de produits à partir de l’eau d’érable?\nInscris-toi à la formation gratuite « Jeunes acériculteurs-trices »  ! Cette formation te permettra d’acquérir des connaissances et peut être trouver votre premier emploi afin d’aider les entreprises acéricole à effectuer certaines tâches. \nFORMATION JEUNES ACERICULTEURS-TRICES :  Lundi 11 MARS 2024 de 8h30 à 12h30. 5 heures de formation. Contenus  théorique et pratique :  l’histoire de l’acériculture\, les ressources principales\, les outils et instruments utilisés\, la dégustation et la transformation. \nCOÛT : Gratuit ! \nLIEU DE LA FORMATION : École d’acériculture \, \nADRESSE : 685\, rang Notre-Dame des Champs\, Pohénégamook\nINSCRIPTION  : Complète ce formulaire ! Nous te contacterons ensuite pour confirmer ton inscription. \nD’AUTRES QUESTIONS ? Appelle Ousmane Ndiaye au 418-425-6141 poste 4106.
URL:https://saveursbsl.com/event/formation-jeunes-acericulteurs/
CATEGORIES:Formation
ATTACH;FMTTYPE=image/jpeg:https://saveursbsl.com/wp-content/uploads/2024/02/429976586_873211434611409_6993585676996551001_n.jpg
END:VEVENT
BEGIN:VEVENT
DTSTART;VALUE=DATE:20240312
DTEND;VALUE=DATE:20240313
DTSTAMP:20260420T193536
CREATED:20240212T134559Z
LAST-MODIFIED:20240212T134653Z
UID:476962-1710201600-1710287999@saveursbsl.com
SUMMARY:Analyse du coût de revient
DESCRIPTION:Durée\n6 h\n\n\n\n\n\n\n\nVille\n\nEn ligne \n\n\n\n\n\n\nCette formation vise à former les entreprises sur l’utilisation d’un système de calcul de coût de production et de revient pour l’ensemble des activités de production et de commercialisation de leur entreprise afin d’améliorer la qualité et l’efficience de leur prise de décision\, et à terme la rentabilité de leur entreprise.\nLe support consistera à : \n\nFormer les entrepreneurs sur les notions et les méthodes de calcul des coûts de production et de revient\nPrésenter à l’aide d’exemples le fonctionnement d’un classeur Excel spécialement développé pour le calcul des coûts de production et de revient du secteur agroalimentaire : l’Agro-calculateur de coût de revient.\nDémontrer aux entrepreneurs comment ils peuvent se servir des éléments du coût de production et de revient pour améliorer leur prise de décision\n\nMandat\nCette formation permettra aux entrepreneurs de : \n\nMieux comprendre les concepts du coût de production et de revient et la mise en place d’un système de calcul des coûts de production et de revient\nÊtre initié à l’utilisation de l’Agro-calculateur de coût de revient
URL:https://saveursbsl.com/event/analyse-du-cout-de-revient/
CATEGORIES:Formation
ATTACH;FMTTYPE=image/png:https://saveursbsl.com/wp-content/uploads/2024/02/FUPSBSL-A-UTILISER.png
END:VEVENT
END:VCALENDAR