BEGIN:VCALENDAR
VERSION:2.0
PRODID:-//Les Saveurs du Bas-Saint-Laurent - ECPv6.4.0//NONSGML v1.0//EN
CALSCALE:GREGORIAN
METHOD:PUBLISH
X-ORIGINAL-URL:https://saveursbsl.com
X-WR-CALDESC:évènements pour Les Saveurs du Bas-Saint-Laurent
REFRESH-INTERVAL;VALUE=DURATION:PT1H
X-Robots-Tag:noindex
X-PUBLISHED-TTL:PT1H
BEGIN:VTIMEZONE
TZID:America/Halifax
BEGIN:DAYLIGHT
TZOFFSETFROM:-0400
TZOFFSETTO:-0300
TZNAME:ADT
DTSTART:20240310T060000
END:DAYLIGHT
BEGIN:STANDARD
TZOFFSETFROM:-0300
TZOFFSETTO:-0400
TZNAME:AST
DTSTART:20241103T050000
END:STANDARD
END:VTIMEZONE
BEGIN:VEVENT
DTSTART;VALUE=DATE:20240312
DTEND;VALUE=DATE:20240313
DTSTAMP:20260420T210303
CREATED:20240212T134559Z
LAST-MODIFIED:20240212T134653Z
UID:476962-1710201600-1710287999@saveursbsl.com
SUMMARY:Analyse du coût de revient
DESCRIPTION:Durée\n6 h\n\n\n\n\n\n\n\nVille\n\nEn ligne \n\n\n\n\n\n\nCette formation vise à former les entreprises sur l’utilisation d’un système de calcul de coût de production et de revient pour l’ensemble des activités de production et de commercialisation de leur entreprise afin d’améliorer la qualité et l’efficience de leur prise de décision\, et à terme la rentabilité de leur entreprise.\nLe support consistera à : \n\nFormer les entrepreneurs sur les notions et les méthodes de calcul des coûts de production et de revient\nPrésenter à l’aide d’exemples le fonctionnement d’un classeur Excel spécialement développé pour le calcul des coûts de production et de revient du secteur agroalimentaire : l’Agro-calculateur de coût de revient.\nDémontrer aux entrepreneurs comment ils peuvent se servir des éléments du coût de production et de revient pour améliorer leur prise de décision\n\nMandat\nCette formation permettra aux entrepreneurs de : \n\nMieux comprendre les concepts du coût de production et de revient et la mise en place d’un système de calcul des coûts de production et de revient\nÊtre initié à l’utilisation de l’Agro-calculateur de coût de revient
URL:https://saveursbsl.com/event/analyse-du-cout-de-revient/
CATEGORIES:Formation
ATTACH;FMTTYPE=image/png:https://saveursbsl.com/wp-content/uploads/2024/02/FUPSBSL-A-UTILISER.png
END:VEVENT
END:VCALENDAR